BEGIN:VCALENDAR
VERSION:2.0
PRODID:-//Producer&#039;s Cooperative Association - ECPv6.10.2//NONSGML v1.0//EN
CALSCALE:GREGORIAN
METHOD:PUBLISH
X-ORIGINAL-URL:https://www.producerscooperative.com
X-WR-CALDESC:Events for Producer&#039;s Cooperative Association
REFRESH-INTERVAL;VALUE=DURATION:PT1H
X-Robots-Tag:noindex
X-PUBLISHED-TTL:PT1H
BEGIN:VTIMEZONE
TZID:America/Chicago
BEGIN:DAYLIGHT
TZOFFSETFROM:-0600
TZOFFSETTO:-0500
TZNAME:CDT
DTSTART:20190310T080000
END:DAYLIGHT
BEGIN:STANDARD
TZOFFSETFROM:-0500
TZOFFSETTO:-0600
TZNAME:CST
DTSTART:20191103T070000
END:STANDARD
END:VTIMEZONE
BEGIN:VEVENT
DTSTART;TZID=America/Chicago:20191014T180000
DTEND;TZID=America/Chicago:20191014T213000
DTSTAMP:20260420T173511
CREATED:20191002T193115Z
LAST-MODIFIED:20191002T201552Z
UID:10000088-1571076000-1571088600@www.producerscooperative.com
SUMMARY:2019 Annual Stockholder's Meeting - Members Only
DESCRIPTION:Producers will be closing early at 3:30pm for employees to prepare for the annual stockholder’s meeting. We hope you’ve requested your membership ticket for attendance. This is a members only event. Must have a ticket to enter.
URL:https://www.producerscooperative.com/event/76th-annual-stockholders-meeting/
LOCATION:TX
END:VEVENT
BEGIN:VEVENT
DTSTART;TZID=America/Chicago:20191019T163000
DTEND;TZID=America/Chicago:20191019T190000
DTSTAMP:20260420T173511
CREATED:20190912T170928Z
LAST-MODIFIED:20190913T194219Z
UID:10000086-1571502600-1571511600@www.producerscooperative.com
SUMMARY:The ULTIMATE Team Fitting Clinic & Contest at  The Brazos Valley Fair
DESCRIPTION:Special Location & Time – 4:30PM @ Brazos Valley Fair \nProStaff: Kirk Stierwalt & Jon Gevelinger\nCalling all show enthusiasts\, Producers Cooperative Show Team members & exhibitors at the Brazos Valley Fair! Want to learn about nutrition and daily care while competing for the ULTIMATE Team Fitting Title at the Producer Cooperative livestock fitting clinic sponsored with Purina Mills and Weaver Livestock? The clinic starts at 4:30 pm at the Brazos Valley Fair followed by the ULTIMATE Team Fitting Contest. The winning team earns the title and each member will receive a $100 Producers Cooperative gift certificate. The clinic is free and open to all to attend. If you are interested in the contest\, you can find an entry form to apply at www.producerscooperative.com. Application must be received by October 1\, 2019. Applicants to be part of the fitting contest teams will be selected by ProStaff. \nRegister Here!
URL:https://www.producerscooperative.com/event/the-ultimate-team-fitting-clinic-contest-at-the-brazos-valley-fair/
LOCATION:TX
ATTACH;FMTTYPE=image/jpeg:https://www.producerscooperative.com/wp-content/uploads/thumbnail_large-100.jpg
END:VEVENT
END:VCALENDAR