BEGIN:VCALENDAR
VERSION:2.0
PRODID:-//Producer&#039;s Cooperative Association - ECPv6.10.2//NONSGML v1.0//EN
CALSCALE:GREGORIAN
METHOD:PUBLISH
X-ORIGINAL-URL:https://www.producerscooperative.com
X-WR-CALDESC:Events for Producer&#039;s Cooperative Association
REFRESH-INTERVAL;VALUE=DURATION:PT1H
X-Robots-Tag:noindex
X-PUBLISHED-TTL:PT1H
BEGIN:VTIMEZONE
TZID:America/Chicago
BEGIN:DAYLIGHT
TZOFFSETFROM:-0600
TZOFFSETTO:-0500
TZNAME:CDT
DTSTART:20250309T080000
END:DAYLIGHT
BEGIN:STANDARD
TZOFFSETFROM:-0500
TZOFFSETTO:-0600
TZNAME:CST
DTSTART:20251102T070000
END:STANDARD
END:VTIMEZONE
BEGIN:VEVENT
DTSTART;TZID=America/Chicago:20250429T080000
DTEND;TZID=America/Chicago:20250531T173000
DTSTAMP:20260419T075819
CREATED:20250521T180948Z
LAST-MODIFIED:20250521T180948Z
UID:10000131-1745913600-1748712600@www.producerscooperative.com
SUMMARY:Spring 2025 Tub Recycling Event
DESCRIPTION:♻️It’s time for Producers Tub Recycling Event!\nRecycle your old tubs and earn 💰 $2 in credit per tub returned! Any brand can be recycled\, and use your credits toward your next Purina mineral or protein tub purchase. \nGuidelines\n-Return any brand\n-125# or larger\n-Clean & empty\n-$2 credit per tub turned in \n📍Available at both Bryan and Hillsboro locations!\n📅Accepting tubs NOW – May 31st! \n*Tubs turned in must be cleaned and emptied. Tubs must be 125# or larger. Credits may be used towards the purchase of a Purina Mineral/Protein Tub\, 125# or larger\, at the time of return\, and credits must be used by 7/31/2025. $10 credit max per Purina tub purchase.
URL:https://www.producerscooperative.com/event/spring-2025-tub-recycling-event/
LOCATION:Producers Cooperative Association – Bryan\, TX\, 1800 N Texas Ave\, Bryan\, TX\, 77803\, United States
ATTACH;FMTTYPE=image/png:https://www.producerscooperative.com/wp-content/uploads/TVVideo_May2025_wk3-1920-x-1483-px.png
GEO:30.690987;-96.376484
X-APPLE-STRUCTURED-LOCATION;VALUE=URI;X-ADDRESS=Producers Cooperative Association – Bryan TX 1800 N Texas Ave Bryan TX 77803 United States;X-APPLE-RADIUS=500;X-TITLE=1800 N Texas Ave:geo:-96.376484,30.690987
END:VEVENT
END:VCALENDAR